BEGIN:VCALENDAR
VERSION:2.0
PRODID:-//ศีล สมาธิ ปัญญา - ECPv6.15.20//NONSGML v1.0//EN
CALSCALE:GREGORIAN
METHOD:PUBLISH
X-ORIGINAL-URL:https://dhamma.watchmekorat.com
X-WR-CALDESC:Events for ศีล สมาธิ ปัญญา
REFRESH-INTERVAL;VALUE=DURATION:PT1H
X-Robots-Tag:noindex
X-PUBLISHED-TTL:PT1H
BEGIN:VTIMEZONE
TZID:Asia/Bangkok
BEGIN:STANDARD
TZOFFSETFROM:+0700
TZOFFSETTO:+0700
TZNAME:+07
DTSTART:20230101T000000
END:STANDARD
END:VTIMEZONE
BEGIN:VEVENT
DTSTART;VALUE=DATE:20241002
DTEND;VALUE=DATE:20241013
DTSTAMP:20260423T120258
CREATED:20240929T143828Z
LAST-MODIFIED:20240929T143828Z
UID:2656-1727827200-1728777599@dhamma.watchmekorat.com
SUMMARY:ขอเชิญร่วมเทศกกาลกินเจ วัดพุทธคุณ อำเภอสีคิ้ว นครราชสีมา 2567 (2-12 ตุลาคม)
DESCRIPTION:ขอเชิญร่วม เทศกกาลกินเจ  ณ วัดพุทธคุณ อำเภอสีคิ้ว จังหวัดนครราชสีมา\nวันเวลาที่จัดกิจกรรรมกินเจ \n\nวันพุธที่ 2 – 12 ตุลาคม 2567\n\nอนุโมธนาบุญทุกท่าน ด้วยครับ \n \n\nวัดพุทธคุณ (วัดจีนนิกาย) ตั้งอยู่ที่ตำบลสีคิ้ว อำเภอสีคิ้ว จังหวัดนครราชสีมา มีพระพุทธรูปหินขาวใหญ่ภายในพระอุโบสถกลางวัด\nGPS.ที่ตั้ง : 14.893880\,101.722058\nเวลาเปิด/ปิด : 06.00 – 17.00\n\nเครดิต https://bri.mcu.ac.th/app/skapp/?p=568 \n  \n  \n \nแผนที่วัดพุทธคุณ สีคิ้ว
URL:https://dhamma.watchmekorat.com/event/%e0%b8%82%e0%b8%ad%e0%b9%80%e0%b8%8a%e0%b8%b4%e0%b8%8d%e0%b8%a3%e0%b9%88%e0%b8%a7%e0%b8%a1%e0%b9%80%e0%b8%97%e0%b8%a8%e0%b8%81%e0%b8%81%e0%b8%b2%e0%b8%a5%e0%b8%81%e0%b8%b4%e0%b8%99%e0%b9%80%e0%b8%88/
LOCATION:วัดพุทธคุณ อำเภอสีคิ้ว
CATEGORIES:กิจกรรมงานบุญ
ATTACH;FMTTYPE=image/jpeg:https://dhamma.watchmekorat.com/wp-content/uploads/2024/09/กินเจ-วัดพุทธคุณ-2567.jpg
END:VEVENT
END:VCALENDAR